BEGIN:VCALENDAR
VERSION:2.0
PRODID:-//FundArt - ECPv5.12.2//NONSGML v1.0//EN
CALSCALE:GREGORIAN
METHOD:PUBLISH
X-WR-CALNAME:FundArt
X-ORIGINAL-URL:https://fundart.com.br
X-WR-CALDESC:Eventos para FundArt
BEGIN:VTIMEZONE
TZID:America/Sao_Paulo
BEGIN:STANDARD
TZOFFSETFROM:-0200
TZOFFSETTO:-0300
TZNAME:-03
DTSTART:20190217T020000
END:STANDARD
END:VTIMEZONE
BEGIN:VEVENT
DTSTART;TZID=America/Sao_Paulo:20191206T183000
DTEND;TZID=America/Sao_Paulo:20191206T183000
DTSTAMP:20260422T042310
CREATED:20191203T144134Z
LAST-MODIFIED:20191203T144134Z
UID:29663-1575657000-1575657000@fundart.com.br
SUMMARY:Sarau Cultural “Adeus 2019”
DESCRIPTION:Setorial de Literatura da FundArt
URL:https://fundart.com.br/evento/sarau-cultural-adeus-2019/
LOCATION:Biblioteca Pública Municipal ” Ateneu Ubatubense”\, Praça 13 de Maio\, 52 - Centro\, Ubatuba
CATEGORIES:Biblioteca Pública Municipal "Ateneu Ubatubense",Sarau
END:VEVENT
BEGIN:VEVENT
DTSTART;TZID=America/Sao_Paulo:20191206T190000
DTEND;TZID=America/Sao_Paulo:20191208T190000
DTSTAMP:20260422T042310
CREATED:20191203T144407Z
LAST-MODIFIED:20191203T144407Z
UID:29665-1575658800-1575831600@fundart.com.br
SUMMARY:3ª Festa do Fandango Caiçara de Ubatuba
DESCRIPTION:
URL:https://fundart.com.br/evento/3a-festa-do-fandango-caicara-de-ubatuba/
LOCATION:Rancho Caiçara Perequê Açu\, Orla da Praia do Perequê-Açu (em frente ao Instituto Argonauta)
CATEGORIES:3ª Festa do Fandango Caiçara de Ubatuba
END:VEVENT
END:VCALENDAR