BEGIN:VCALENDAR
VERSION:2.0
PRODID:-//FundArt - ECPv5.12.2//NONSGML v1.0//EN
CALSCALE:GREGORIAN
METHOD:PUBLISH
X-WR-CALNAME:FundArt
X-ORIGINAL-URL:https://fundart.com.br
X-WR-CALDESC:Eventos para FundArt
BEGIN:VTIMEZONE
TZID:America/Sao_Paulo
BEGIN:STANDARD
TZOFFSETFROM:-0200
TZOFFSETTO:-0300
TZNAME:-03
DTSTART:20190217T020000
END:STANDARD
END:VTIMEZONE
BEGIN:VEVENT
DTSTART;TZID=America/Sao_Paulo:20191108T200000
DTEND;TZID=America/Sao_Paulo:20191201T200000
DTSTAMP:20260421T191107
CREATED:20181228T152424Z
LAST-MODIFIED:20181228T152424Z
UID:26548-1573243200-1575230400@fundart.com.br
SUMMARY:16º Salão Ubatuba de Artes Visuais
DESCRIPTION:
URL:https://fundart.com.br/evento/16o-salao-ubatuba-de-artes-visuais/
END:VEVENT
BEGIN:VEVENT
DTSTART;TZID=America/Sao_Paulo:20191130T090000
DTEND;TZID=America/Sao_Paulo:20191130T140000
DTSTAMP:20260421T191107
CREATED:20191031T151357Z
LAST-MODIFIED:20191121T125920Z
UID:29433-1575104400-1575122400@fundart.com.br
SUMMARY:6ª Conferência Municipal de Cultura de Ubatuba
DESCRIPTION:
URL:https://fundart.com.br/evento/6a-conferencia-municipal-de-cultura-de-ubatuba/
LOCATION:Teatro Municipal Pedro Paulo Teixeira Pinto
CATEGORIES:6ª Conferência Municipal de Cultura
END:VEVENT
BEGIN:VEVENT
DTSTART;TZID=America/Sao_Paulo:20191130T200000
DTEND;TZID=America/Sao_Paulo:20191130T200000
DTSTAMP:20260421T191107
CREATED:20191031T151548Z
LAST-MODIFIED:20191128T200543Z
UID:29436-1575144000-1575144000@fundart.com.br
SUMMARY:Encontro de Corais de Ubatuba
DESCRIPTION:Participação: Coral Água Viva de Caraguatatuba; Coral Indígena da Aldeia Boa Vista; Coral da APEOESP de Marília; Madrigal de Jaguariúna; Projeto Guri – Polo Ubatuba e Coro da Lira. \nIngresso: Retirar o ingresso 1 hora antes do evento na bilheteria do Teatro.
URL:https://fundart.com.br/evento/encontro-de-corais/
CATEGORIES:Música
END:VEVENT
END:VCALENDAR