BEGIN:VCALENDAR
VERSION:2.0
PRODID:-//FundArt - ECPv5.12.2//NONSGML v1.0//EN
CALSCALE:GREGORIAN
METHOD:PUBLISH
X-WR-CALNAME:FundArt
X-ORIGINAL-URL:https://fundart.com.br
X-WR-CALDESC:Eventos para FundArt
BEGIN:VTIMEZONE
TZID:America/Sao_Paulo
BEGIN:STANDARD
TZOFFSETFROM:-0200
TZOFFSETTO:-0300
TZNAME:-03
DTSTART:20190217T020000
END:STANDARD
END:VTIMEZONE
BEGIN:VEVENT
DTSTART;TZID=America/Sao_Paulo:20191108T200000
DTEND;TZID=America/Sao_Paulo:20191201T200000
DTSTAMP:20260421T161348
CREATED:20181228T152424Z
LAST-MODIFIED:20181228T152424Z
UID:26548-1573243200-1575230400@fundart.com.br
SUMMARY:16º Salão Ubatuba de Artes Visuais
DESCRIPTION:
URL:https://fundart.com.br/evento/16o-salao-ubatuba-de-artes-visuais/
END:VEVENT
BEGIN:VEVENT
DTSTART;VALUE=DATE:20191125
DTEND;VALUE=DATE:20191130
DTSTAMP:20260421T161348
CREATED:20191031T145140Z
LAST-MODIFIED:20191031T145140Z
UID:29409-1574640000-1575071999@fundart.com.br
SUMMARY:Encerramento das Oficinas Culturais do Programa “Arte Para Todos” da FundArt
DESCRIPTION:Exposições das oficinas de Desenho Artístico; Pintura; Costura Criativa; Fibra de Bananeira; Fotografia; Macramê e Tecelagem.
URL:https://fundart.com.br/evento/encerramento-das-oficinas-culturais-do-programa-arte-para-todos-da-fundart-2/
LOCATION:Teatro Municipal Pedro Paulo Teixeira Pinto
CATEGORIES:Arte Para Todos,Oficinas
END:VEVENT
BEGIN:VEVENT
DTSTART;TZID=America/Sao_Paulo:20191128T150000
DTEND;TZID=America/Sao_Paulo:20191128T150000
DTSTAMP:20260421T161348
CREATED:20191031T150525Z
LAST-MODIFIED:20191031T150525Z
UID:29423-1574953200-1574953200@fundart.com.br
SUMMARY:Encerramento da Oficina de Musicalização da FundArt
DESCRIPTION:Programa “Arte Para Todos” \nArte-educadores: Célia Regina e Weber Silva
URL:https://fundart.com.br/evento/encerramento-da-oficina-de-musicalizacao-da-fundart/
LOCATION:Teatro Municipal Pedro Paulo Teixeira Pinto
CATEGORIES:Arte Para Todos
END:VEVENT
BEGIN:VEVENT
DTSTART;TZID=America/Sao_Paulo:20191128T190000
DTEND;TZID=America/Sao_Paulo:20191128T190000
DTSTAMP:20260421T161348
CREATED:20191031T150646Z
LAST-MODIFIED:20191031T150646Z
UID:29425-1574967600-1574967600@fundart.com.br
SUMMARY:Encerramento da Oficina de Violão da FundArt
DESCRIPTION:Programa “Arte Para Todos” \nArte-educador: Raphaell Fernandes
URL:https://fundart.com.br/evento/encerramento-da-oficina-de-violao-da-fundart/
LOCATION:Teatro Municipal Pedro Paulo Teixeira Pinto
CATEGORIES:Arte Para Todos
END:VEVENT
BEGIN:VEVENT
DTSTART;TZID=America/Sao_Paulo:20191128T190000
DTEND;TZID=America/Sao_Paulo:20191128T190000
DTSTAMP:20260421T161348
CREATED:20191031T150813Z
LAST-MODIFIED:20191031T150813Z
UID:29427-1574967600-1574967600@fundart.com.br
SUMMARY:Pontos MIS - Besouro
DESCRIPTION:Besouro era o sobrenome do reconhecido capoeirista Manuel Henrique Pereira. Ele é um guerreiro que luta a favor dos direitos dos negros. O filme conta a história deste órfão que se transformou num dos grandes mestres da capoeira. \nGênero: Ação \nClassificação: 14 anos
URL:https://fundart.com.br/evento/pontos-mis-besouro/
LOCATION:Biblioteca Pública Municipal ” Ateneu Ubatubense”\, Praça 13 de Maio\, 52 - Centro\, Ubatuba
CATEGORIES:Pontos MIS
END:VEVENT
BEGIN:VEVENT
DTSTART;TZID=America/Sao_Paulo:20191128T200000
DTEND;TZID=America/Sao_Paulo:20191128T200000
DTSTAMP:20260421T161348
CREATED:20191031T150931Z
LAST-MODIFIED:20191031T150931Z
UID:29429-1574971200-1574971200@fundart.com.br
SUMMARY:Encerramento da Oficina de Cavaquinho da FundArt
DESCRIPTION:Programa “Arte Para Todos” \nArte-educador: Paulo Cesoli
URL:https://fundart.com.br/evento/encerramento-da-oficina-de-cavaquinho-da-fundart-2/
LOCATION:Teatro Municipal Pedro Paulo Teixeira Pinto
CATEGORIES:Arte Para Todos
END:VEVENT
END:VCALENDAR