BEGIN:VCALENDAR
VERSION:2.0
PRODID:-//FundArt - ECPv5.12.2//NONSGML v1.0//EN
CALSCALE:GREGORIAN
METHOD:PUBLISH
X-WR-CALNAME:FundArt
X-ORIGINAL-URL:https://fundart.com.br
X-WR-CALDESC:Eventos para FundArt
BEGIN:VTIMEZONE
TZID:America/Sao_Paulo
BEGIN:STANDARD
TZOFFSETFROM:-0200
TZOFFSETTO:-0300
TZNAME:-03
DTSTART:20190217T020000
END:STANDARD
END:VTIMEZONE
BEGIN:VEVENT
DTSTART;TZID=America/Sao_Paulo:20191108T200000
DTEND;TZID=America/Sao_Paulo:20191201T200000
DTSTAMP:20260421T174310
CREATED:20181228T152424Z
LAST-MODIFIED:20181228T152424Z
UID:26548-1573243200-1575230400@fundart.com.br
SUMMARY:16º Salão Ubatuba de Artes Visuais
DESCRIPTION:
URL:https://fundart.com.br/evento/16o-salao-ubatuba-de-artes-visuais/
END:VEVENT
BEGIN:VEVENT
DTSTART;TZID=America/Sao_Paulo:20191115T180000
DTEND;TZID=America/Sao_Paulo:20191117T180000
DTSTAMP:20260421T174310
CREATED:20191031T142205Z
LAST-MODIFIED:20191031T144134Z
UID:29389-1573840800-1574013600@fundart.com.br
SUMMARY:Exposição e Venda de Artesanato | Setorial de Artesanato da FundArt
DESCRIPTION:
URL:https://fundart.com.br/evento/exposicao-e-venda-de-artesanato-setorial-de-artesanato-da-fundart/
LOCATION:Praça Anchieta\, Centro\, Ubatuba\, 11680-000
CATEGORIES:Artesanato,Grupo Setorial de Artesanato
END:VEVENT
BEGIN:VEVENT
DTSTART;TZID=America/Sao_Paulo:20191117T170000
DTEND;TZID=America/Sao_Paulo:20191117T170000
DTSTAMP:20260421T174310
CREATED:20191031T143022Z
LAST-MODIFIED:20191031T143022Z
UID:29396-1574010000-1574010000@fundart.com.br
SUMMARY:Cortejo com o Grupo Maracatu Itaomi
DESCRIPTION:Evento “Consciência Negra – Negro de Todas as Cores” \nLocal: Saída da Praça Nossa Senhora da Paz (em frente à Pizzaria São Paulo)
URL:https://fundart.com.br/evento/cortejo-com-o-grupo-maracatu-itaomi/
LOCATION:Praça Nossa Senhora da Paz
CATEGORIES:Consciência Negra,Consciência Negra "Negro de Todas as Cores"
END:VEVENT
BEGIN:VEVENT
DTSTART;TZID=America/Sao_Paulo:20191117T173000
DTEND;TZID=America/Sao_Paulo:20191117T173000
DTSTAMP:20260421T174310
CREATED:20191031T143333Z
LAST-MODIFIED:20191031T143333Z
UID:29399-1574011800-1574011800@fundart.com.br
SUMMARY:Homenagem ao Mestre de Capoeira “Jequié”
DESCRIPTION:Evento “Consciência Negra – Negro de Todas as Cores”
URL:https://fundart.com.br/evento/homenagem-ao-mestre-de-capoeira-jequie/
LOCATION:Teatro Municipal Pedro Paulo Teixeira Pinto
CATEGORIES:Consciência Negra,Consciência Negra "Negro de Todas as Cores"
END:VEVENT
BEGIN:VEVENT
DTSTART;TZID=America/Sao_Paulo:20191117T200000
DTEND;TZID=America/Sao_Paulo:20191117T200000
DTSTAMP:20260421T174310
CREATED:20191015T185852Z
LAST-MODIFIED:20191015T185852Z
UID:29279-1574020800-1574020800@fundart.com.br
SUMMARY:Concurso "A Mais Bela Negra 2019"
DESCRIPTION:
URL:https://fundart.com.br/evento/concurso-mais-bela-negra-2019/
LOCATION:Teatro Municipal Pedro Paulo Teixeira Pinto
CATEGORIES:Concurso "A Mais Bela Negra"
ORGANIZER;CN="FundArt":MAILTO:contato@fundart.com
END:VEVENT
END:VCALENDAR