BEGIN:VCALENDAR
VERSION:2.0
PRODID:-//FundArt - ECPv5.12.2//NONSGML v1.0//EN
CALSCALE:GREGORIAN
METHOD:PUBLISH
X-WR-CALNAME:FundArt
X-ORIGINAL-URL:https://fundart.com.br
X-WR-CALDESC:Eventos para FundArt
BEGIN:VTIMEZONE
TZID:America/Sao_Paulo
BEGIN:STANDARD
TZOFFSETFROM:-0200
TZOFFSETTO:-0300
TZNAME:-03
DTSTART:20190217T020000
END:STANDARD
END:VTIMEZONE
BEGIN:VEVENT
DTSTART;VALUE=DATE:20190914
DTEND;VALUE=DATE:20191007
DTSTAMP:20260422T211227
CREATED:20190913T135548Z
LAST-MODIFIED:20190913T140124Z
UID:28968-1568419200-1570406399@fundart.com.br
SUMMARY:I Mostra Coletiva dos Artistas de Ubatuba
DESCRIPTION:Homenageado Wladimir Ferreira
URL:https://fundart.com.br/evento/i-mostra-coletiva-dos-artistas-de-ubatuba/
LOCATION:Teatro Municipal Pedro Paulo Teixeira Pinto
CATEGORIES:I Mostra Coletiva dos Artistas de Ubatuba
END:VEVENT
BEGIN:VEVENT
DTSTART;TZID=America/Sao_Paulo:20190918T180000
DTEND;TZID=America/Sao_Paulo:20190918T180000
DTSTAMP:20260422T211227
CREATED:20190410T155003Z
LAST-MODIFIED:20190410T155003Z
UID:27642-1568829600-1568829600@fundart.com.br
SUMMARY:Reunião do Grupo Setorial de fotografia\, Cinema e Vídeo
DESCRIPTION:
URL:https://fundart.com.br/evento/reuniao-do-grupo-setorial-de-fotografia-cinema-e-video-3/
LOCATION:Sede Administrativa da FundArt\, Praça Nóbrega\, 54 - Centro\, Ubatuba\, 11680-000
ATTACH;FMTTYPE=image/jpeg:https://fundart.com.br/wp-content/uploads/2017/03/Dicas-de-fotografia-profissional.jpg
END:VEVENT
END:VCALENDAR