BEGIN:VCALENDAR
VERSION:2.0
PRODID:-//FundArt - ECPv5.12.2//NONSGML v1.0//EN
CALSCALE:GREGORIAN
METHOD:PUBLISH
X-WR-CALNAME:FundArt
X-ORIGINAL-URL:https://fundart.com.br
X-WR-CALDESC:Eventos para FundArt
BEGIN:VTIMEZONE
TZID:America/Sao_Paulo
BEGIN:STANDARD
TZOFFSETFROM:-0200
TZOFFSETTO:-0300
TZNAME:-03
DTSTART:20190217T020000
END:STANDARD
END:VTIMEZONE
BEGIN:VEVENT
DTSTART;VALUE=DATE:20190906
DTEND;VALUE=DATE:20190909
DTSTAMP:20260422T052650
CREATED:20190102T133516Z
LAST-MODIFIED:20190102T133516Z
UID:26555-1567728000-1567987199@fundart.com.br
SUMMARY:14º Festival de Cultura Popular "Caiçarada"
DESCRIPTION:14º Festival de Cultura Popular “Caiçarada”\nDias 06\, 07 e 08 de setembro
URL:https://fundart.com.br/evento/14o-festival-de-cultura-popular-caicarada-2/
CATEGORIES:Caiçarada
ATTACH;FMTTYPE=image/jpeg:https://fundart.com.br/wp-content/uploads/2014/08/caicarada18.jpg
ORGANIZER;CN="FundArt":MAILTO:contato@fundart.com.br
END:VEVENT
BEGIN:VEVENT
DTSTART;TZID=America/Sao_Paulo:20190908T080000
DTEND;TZID=America/Sao_Paulo:20190908T080000
DTSTAMP:20260422T052650
CREATED:20190603T172815Z
LAST-MODIFIED:20190603T172815Z
UID:28112-1567929600-1567929600@fundart.com.br
SUMMARY:Folia do Divino no Félix e Morro do Tiagão
DESCRIPTION:
URL:https://fundart.com.br/evento/folia-do-divino-no-felix-e-morro-do-tiagao/
CATEGORIES:Cultura,Folia do Divino Espírito Santo,FundArt
END:VEVENT
BEGIN:VEVENT
DTSTART;TZID=America/Sao_Paulo:20190908T090000
DTEND;TZID=America/Sao_Paulo:20190908T090000
DTSTAMP:20260422T052650
CREATED:20190326T183012Z
LAST-MODIFIED:20190814T143228Z
UID:27445-1567933200-1567933200@fundart.com.br
SUMMARY:Corrida de Canoas na Caiçarada
DESCRIPTION:
URL:https://fundart.com.br/evento/corrida-de-canoas-na-caicarada/
CATEGORIES:Caiçarada
ATTACH;FMTTYPE=image/jpeg:https://fundart.com.br/wp-content/uploads/2019/03/WhatsApp-Image-2019-03-19-at-22.16.11.jpeg
END:VEVENT
END:VCALENDAR