BEGIN:VCALENDAR
VERSION:2.0
PRODID:-//FundArt - ECPv5.12.2//NONSGML v1.0//EN
CALSCALE:GREGORIAN
METHOD:PUBLISH
X-WR-CALNAME:FundArt
X-ORIGINAL-URL:https://fundart.com.br
X-WR-CALDESC:Eventos para FundArt
BEGIN:VTIMEZONE
TZID:America/Sao_Paulo
BEGIN:STANDARD
TZOFFSETFROM:-0200
TZOFFSETTO:-0300
TZNAME:-03
DTSTART:20190217T020000
END:STANDARD
END:VTIMEZONE
BEGIN:VEVENT
DTSTART;TZID=America/Sao_Paulo:20190831T080000
DTEND;TZID=America/Sao_Paulo:20190831T080000
DTSTAMP:20260421T225227
CREATED:20190814T142836Z
LAST-MODIFIED:20190830T145717Z
UID:28728-1567238400-1567238400@fundart.com.br
SUMMARY:Peregrinação da Folia do Divino no Puruba Sertão
DESCRIPTION:
URL:https://fundart.com.br/evento/folia-do-divino-na-vila-rolim-cambuca-2/
CATEGORIES:Cultura,FundArt
END:VEVENT
END:VCALENDAR