BEGIN:VCALENDAR
VERSION:2.0
PRODID:-//FundArt - ECPv5.12.2//NONSGML v1.0//EN
CALSCALE:GREGORIAN
METHOD:PUBLISH
X-WR-CALNAME:FundArt
X-ORIGINAL-URL:https://fundart.com.br
X-WR-CALDESC:Eventos para FundArt
BEGIN:VTIMEZONE
TZID:America/Sao_Paulo
BEGIN:STANDARD
TZOFFSETFROM:-0200
TZOFFSETTO:-0300
TZNAME:-03
DTSTART:20190217T020000
END:STANDARD
END:VTIMEZONE
BEGIN:VEVENT
DTSTART;TZID=America/Sao_Paulo:20190810T080000
DTEND;TZID=America/Sao_Paulo:20190810T080000
DTSTAMP:20260422T200215
CREATED:20190530T171730Z
LAST-MODIFIED:20190807T182718Z
UID:28073-1565424000-1565424000@fundart.com.br
SUMMARY:Folia do Divino na Praia da Almada e Estaleiro
DESCRIPTION:
URL:https://fundart.com.br/evento/folia-do-divino-na-fazenda-da-caixa/
LOCATION:Praia da Almada
CATEGORIES:Cultura,Folia do Divino Espírito Santo
END:VEVENT
BEGIN:VEVENT
DTSTART;TZID=America/Sao_Paulo:20190810T203000
DTEND;TZID=America/Sao_Paulo:20190810T203000
DTSTAMP:20260422T200215
CREATED:20190806T121645Z
LAST-MODIFIED:20190806T122610Z
UID:28641-1565469000-1565469000@fundart.com.br
SUMMARY:Música na praça Homenagem ao dia dos Pais - Banda Lira Padre Anchieta
DESCRIPTION:
URL:https://fundart.com.br/evento/musica-na-praca-homenagem-ao-dia-dos-pais-banda-lira-padre-anchieta/
LOCATION:Praça Exaltação à Santa Cruz\, Ubatuba
CATEGORIES:Música,Música na Praça
END:VEVENT
END:VCALENDAR