BEGIN:VCALENDAR
VERSION:2.0
PRODID:-//FundArt - ECPv5.12.2//NONSGML v1.0//EN
CALSCALE:GREGORIAN
METHOD:PUBLISH
X-WR-CALNAME:FundArt
X-ORIGINAL-URL:https://fundart.com.br
X-WR-CALDESC:Eventos para FundArt
BEGIN:VTIMEZONE
TZID:America/Sao_Paulo
BEGIN:STANDARD
TZOFFSETFROM:-0200
TZOFFSETTO:-0300
TZNAME:-03
DTSTART:20190217T020000
END:STANDARD
END:VTIMEZONE
BEGIN:VEVENT
DTSTART;TZID=America/Sao_Paulo:20190726T000000
DTEND;TZID=America/Sao_Paulo:20190731T000000
DTSTAMP:20260421T224542
CREATED:20190725T133000Z
LAST-MODIFIED:20190725T133000Z
UID:28556-1564099200-1564531200@fundart.com.br
SUMMARY:FLIU – Feira Literária Infantil de Ubatuba
DESCRIPTION:
URL:https://fundart.com.br/evento/fliu-feira-literaria-infantil-de-ubatuba/
LOCATION:Praça Exaltação da Santa Cruz\, Centro\, Ubatuba\, 11680-000
END:VEVENT
BEGIN:VEVENT
DTSTART;TZID=America/Sao_Paulo:20190727T140000
DTEND;TZID=America/Sao_Paulo:20190728T000000
DTSTAMP:20260421T224542
CREATED:20190725T132654Z
LAST-MODIFIED:20190725T132654Z
UID:28554-1564236000-1564272000@fundart.com.br
SUMMARY:Guarani Cultural
DESCRIPTION:
URL:https://fundart.com.br/evento/guarani-cultural-3/
LOCATION:Praça da Baleia\, Itaguá
CATEGORIES:Guarani Cultural
END:VEVENT
BEGIN:VEVENT
DTSTART;TZID=America/Sao_Paulo:20190728T080000
DTEND;TZID=America/Sao_Paulo:20190728T080000
DTSTAMP:20260421T224542
CREATED:20190529T174536Z
LAST-MODIFIED:20190529T174708Z
UID:28056-1564300800-1564300800@fundart.com.br
SUMMARY:Folia do Divino no bairro da Figueira
DESCRIPTION:
URL:https://fundart.com.br/evento/folia-do-divino-no-bairro-da-figueira/
CATEGORIES:Cultura,FundArt
END:VEVENT
BEGIN:VEVENT
DTSTART;TZID=America/Sao_Paulo:20190728T080000
DTEND;TZID=America/Sao_Paulo:20190728T170000
DTSTAMP:20260421T224542
CREATED:20190725T134332Z
LAST-MODIFIED:20190725T134332Z
UID:28565-1564300800-1564333200@fundart.com.br
SUMMARY:I Fórum de Saberes Artesanais de Ubatuba
DESCRIPTION:
URL:https://fundart.com.br/evento/i-forum-de-saberes-artesanais-de-ubatuba-2/
END:VEVENT
BEGIN:VEVENT
DTSTART;TZID=America/Sao_Paulo:20190728T170000
DTEND;TZID=America/Sao_Paulo:20190728T210000
DTSTAMP:20260421T224542
CREATED:20190725T133712Z
LAST-MODIFIED:20190725T133712Z
UID:28561-1564333200-1564347600@fundart.com.br
SUMMARY:Férias no Museu
DESCRIPTION:
URL:https://fundart.com.br/evento/ferias-no-museu-2/
LOCATION:Museu Histórico Washington de Oliveira
END:VEVENT
BEGIN:VEVENT
DTSTART;TZID=America/Sao_Paulo:20190728T200000
DTEND;TZID=America/Sao_Paulo:20190728T200000
DTSTAMP:20260421T224542
CREATED:20190716T123727Z
LAST-MODIFIED:20190716T123727Z
UID:28416-1564344000-1564344000@fundart.com.br
SUMMARY:Banda Lira Padre Anchieta - Festa Julina da Associação Guapuru
DESCRIPTION:
URL:https://fundart.com.br/evento/banda-lira-padre-anchieta-festa-julina-da-associacao-guapuru/
LOCATION:Campinho de futebol do bairro Itaguá
END:VEVENT
END:VCALENDAR