BEGIN:VCALENDAR
VERSION:2.0
PRODID:-//FundArt - ECPv5.12.2//NONSGML v1.0//EN
CALSCALE:GREGORIAN
METHOD:PUBLISH
X-WR-CALNAME:FundArt
X-ORIGINAL-URL:https://fundart.com.br
X-WR-CALDESC:Eventos para FundArt
BEGIN:VTIMEZONE
TZID:America/Sao_Paulo
BEGIN:STANDARD
TZOFFSETFROM:-0200
TZOFFSETTO:-0300
TZNAME:-03
DTSTART:20190217T020000
END:STANDARD
END:VTIMEZONE
BEGIN:VEVENT
DTSTART;TZID=America/Sao_Paulo:20190726T000000
DTEND;TZID=America/Sao_Paulo:20190731T000000
DTSTAMP:20260422T001609
CREATED:20190725T133000Z
LAST-MODIFIED:20190725T133000Z
UID:28556-1564099200-1564531200@fundart.com.br
SUMMARY:FLIU – Feira Literária Infantil de Ubatuba
DESCRIPTION:
URL:https://fundart.com.br/evento/fliu-feira-literaria-infantil-de-ubatuba/
LOCATION:Praça Exaltação da Santa Cruz\, Centro\, Ubatuba\, 11680-000
END:VEVENT
BEGIN:VEVENT
DTSTART;TZID=America/Sao_Paulo:20190726T180000
DTEND;TZID=America/Sao_Paulo:20190726T180000
DTSTAMP:20260422T001609
CREATED:20190725T132249Z
LAST-MODIFIED:20190725T132500Z
UID:28552-1564164000-1564164000@fundart.com.br
SUMMARY:Guarani Cultural
DESCRIPTION:
URL:https://fundart.com.br/evento/guarani-cultural-2/
LOCATION:Praça da Baleia\, Itaguá\, Ubatuba
CATEGORIES:Guarani Cultural
END:VEVENT
BEGIN:VEVENT
DTSTART;TZID=America/Sao_Paulo:20190726T200000
DTEND;TZID=America/Sao_Paulo:20190726T200000
DTSTAMP:20260422T001609
CREATED:20190716T123212Z
LAST-MODIFIED:20190716T123212Z
UID:28408-1564171200-1564171200@fundart.com.br
SUMMARY:Banda Lira Padre Anchieta - Abertura Guarani Cultural
DESCRIPTION:
URL:https://fundart.com.br/evento/banda-lira-padre-anchieta-abertura-guarani-cultural/
LOCATION:Rua Guarani\, Ubatuba
END:VEVENT
END:VCALENDAR