BEGIN:VCALENDAR
VERSION:2.0
PRODID:-//FundArt - ECPv5.12.2//NONSGML v1.0//EN
CALSCALE:GREGORIAN
METHOD:PUBLISH
X-WR-CALNAME:FundArt
X-ORIGINAL-URL:https://fundart.com.br
X-WR-CALDESC:Eventos para FundArt
BEGIN:VTIMEZONE
TZID:America/Sao_Paulo
BEGIN:STANDARD
TZOFFSETFROM:-0200
TZOFFSETTO:-0300
TZNAME:-03
DTSTART:20190217T020000
END:STANDARD
END:VTIMEZONE
BEGIN:VEVENT
DTSTART;TZID=America/Sao_Paulo:20190725T190000
DTEND;TZID=America/Sao_Paulo:20190725T190000
DTSTAMP:20260422T015208
CREATED:20190725T144351Z
LAST-MODIFIED:20190725T144351Z
UID:28567-1564081200-1564081200@fundart.com.br
SUMMARY:Pontos MIS - Ela Volta na Quinta
DESCRIPTION:
URL:https://fundart.com.br/evento/pontos-mis-ela-volta-na-quinta/
LOCATION:Biblioteca Pública Municipal\, Praça 13 de Maio - centro\, Ubatuba\, Brasil
END:VEVENT
END:VCALENDAR