BEGIN:VCALENDAR
VERSION:2.0
PRODID:-//FundArt - ECPv5.12.2//NONSGML v1.0//EN
CALSCALE:GREGORIAN
METHOD:PUBLISH
X-WR-CALNAME:FundArt
X-ORIGINAL-URL:https://fundart.com.br
X-WR-CALDESC:Eventos para FundArt
BEGIN:VTIMEZONE
TZID:America/Sao_Paulo
BEGIN:STANDARD
TZOFFSETFROM:-0200
TZOFFSETTO:-0300
TZNAME:-03
DTSTART:20190217T020000
END:STANDARD
END:VTIMEZONE
BEGIN:VEVENT
DTSTART;TZID=America/Sao_Paulo:20190719T203000
DTEND;TZID=America/Sao_Paulo:20190719T203000
DTSTAMP:20260424T092352
CREATED:20190716T122451Z
LAST-MODIFIED:20190716T122451Z
UID:28397-1563568200-1563568200@fundart.com.br
SUMMARY:Banda Lira Padre Anchieta - Festa do Camarão de Caraguatatuba
DESCRIPTION:
URL:https://fundart.com.br/evento/banda-lira-padre-anchieta-festa-do-camarao-de-caraguatatuba/
LOCATION:Praça de Eventos de Caraguatatuba
END:VEVENT
END:VCALENDAR