BEGIN:VCALENDAR
VERSION:2.0
PRODID:-//FundArt - ECPv5.12.2//NONSGML v1.0//EN
CALSCALE:GREGORIAN
METHOD:PUBLISH
X-WR-CALNAME:FundArt
X-ORIGINAL-URL:https://fundart.com.br
X-WR-CALDESC:Eventos para FundArt
BEGIN:VTIMEZONE
TZID:America/Sao_Paulo
BEGIN:STANDARD
TZOFFSETFROM:-0200
TZOFFSETTO:-0300
TZNAME:-03
DTSTART:20180218T020000
END:STANDARD
BEGIN:DAYLIGHT
TZOFFSETFROM:-0300
TZOFFSETTO:-0200
TZNAME:-02
DTSTART:20181104T030000
END:DAYLIGHT
END:VTIMEZONE
BEGIN:VEVENT
DTSTART;VALUE=DATE:20181110
DTEND;VALUE=DATE:20181203
DTSTAMP:20260424T124113
CREATED:20180716T122233Z
LAST-MODIFIED:20180912T172917Z
UID:25087-1541808000-1543795199@fundart.com.br
SUMMARY:15º Salão Ubatuba de Artes Visuais
DESCRIPTION:
URL:https://fundart.com.br/evento/xv-salao-ubatuba-de-belas-artes/
LOCATION:Centro de Convenções de Ubatuba\, Atrás do Aeroporto\, Ubatuba
CATEGORIES:Salão Ubatuba de Belas Artes
END:VEVENT
BEGIN:VEVENT
DTSTART;TZID=America/Sao_Paulo:20181126T090000
DTEND;TZID=America/Sao_Paulo:20181130T080000
DTSTAMP:20260424T124113
CREATED:20181113T112949Z
LAST-MODIFIED:20181122T191935Z
UID:26190-1543222800-1543564800@fundart.com.br
SUMMARY:Encerramento das Oficinas Culturais da FundArt
DESCRIPTION:
URL:https://fundart.com.br/evento/encerramento-das-oficinas-culturais/
LOCATION:Sede Administrativa da FundArt\, Praça Nóbrega\, 54 - Centro\, Ubatuba\, 11680-000
ATTACH;FMTTYPE=image/jpeg:https://fundart.com.br/wp-content/uploads/2018/11/46501415_941475519309950_5727262065135976448_n.jpg
ORGANIZER;CN="FundArt":MAILTO:contato@fundart.com.br
END:VEVENT
BEGIN:VEVENT
DTSTART;TZID=America/Sao_Paulo:20181127T180000
DTEND;TZID=America/Sao_Paulo:20181127T190000
DTSTAMP:20260424T124113
CREATED:20181127T121724Z
LAST-MODIFIED:20181127T121724Z
UID:26313-1543341600-1543345200@fundart.com.br
SUMMARY:Reunião Extraordinária do Grupo Setorial de Música da FundArt
DESCRIPTION:Reunião Extraordinária do Grupo Setorial de Música da FundArt\nData: 27 de novembro – terça-feira \nHorário: 18h \nLocal: Sede administrativa da FundArt
URL:https://fundart.com.br/evento/reuniao-extraordinaria-do-grupo-setorial-de-musica-da-fundart/
LOCATION:Sede Administrativa da FundArt\, Praça Nóbrega\, 54 - Centro\, Ubatuba\, 11680-000
CATEGORIES:Grupo Setorial de Música
ORGANIZER;CN="FundArt":MAILTO:contato@fundart.com
END:VEVENT
END:VCALENDAR