BEGIN:VCALENDAR
VERSION:2.0
PRODID:-//FundArt - ECPv5.12.2//NONSGML v1.0//EN
CALSCALE:GREGORIAN
METHOD:PUBLISH
X-WR-CALNAME:FundArt
X-ORIGINAL-URL:https://fundart.com.br
X-WR-CALDESC:Eventos para FundArt
BEGIN:VTIMEZONE
TZID:America/Sao_Paulo
BEGIN:STANDARD
TZOFFSETFROM:-0200
TZOFFSETTO:-0300
TZNAME:-03
DTSTART:20180218T020000
END:STANDARD
BEGIN:DAYLIGHT
TZOFFSETFROM:-0300
TZOFFSETTO:-0200
TZNAME:-02
DTSTART:20181104T030000
END:DAYLIGHT
END:VTIMEZONE
BEGIN:VEVENT
DTSTART;VALUE=DATE:20181110
DTEND;VALUE=DATE:20181203
DTSTAMP:20260424T235241
CREATED:20180716T122233Z
LAST-MODIFIED:20180912T172917Z
UID:25087-1541808000-1543795199@fundart.com.br
SUMMARY:15º Salão Ubatuba de Artes Visuais
DESCRIPTION:
URL:https://fundart.com.br/evento/xv-salao-ubatuba-de-belas-artes/
LOCATION:Centro de Convenções de Ubatuba\, Atrás do Aeroporto\, Ubatuba
CATEGORIES:Salão Ubatuba de Belas Artes
END:VEVENT
BEGIN:VEVENT
DTSTART;TZID=America/Sao_Paulo:20181119T183000
DTEND;TZID=America/Sao_Paulo:20181119T183000
DTSTAMP:20260424T235241
CREATED:20180216T130539Z
LAST-MODIFIED:20180216T130539Z
UID:23061-1542652200-1542652200@fundart.com.br
SUMMARY:Reunião do Conselho Municipal de Política Cultural
DESCRIPTION:1ª Chamada: 18h30 \n\n\n2ª Chamada: 18h45
URL:https://fundart.com.br/evento/reuniao-do-conselho-municipal-de-politica-cultural-10/
CATEGORIES:Conselho Municipal de Politica Cultural,FundArt
ATTACH;FMTTYPE=image/jpeg:https://fundart.com.br/wp-content/uploads/2017/09/cmpc.jpg
END:VEVENT
BEGIN:VEVENT
DTSTART;TZID=America/Sao_Paulo:20181119T200000
DTEND;TZID=America/Sao_Paulo:20181119T200000
DTSTAMP:20260424T235241
CREATED:20181113T113827Z
LAST-MODIFIED:20181113T114253Z
UID:26197-1542657600-1542657600@fundart.com.br
SUMMARY:Consciência Negra " Negro de Todas as Cores"
DESCRIPTION:  \n19/11 (segunda-feira) l Biblioteca Municipal “Ateneu Ubatubense” \n19h – Bate-papo sobre o protagonismo de comunidades e atores afrodescendentes no setor do turismo com a participação de lideranças negras e empreendedores. Parceria Ecotuba. \n 
URL:https://fundart.com.br/evento/consciencia-negra/
ATTACH;FMTTYPE=image/jpeg:https://fundart.com.br/wp-content/uploads/2018/11/45560764_927650254025810_4554370216733179904_n.jpg
END:VEVENT
END:VCALENDAR