BEGIN:VCALENDAR
VERSION:2.0
PRODID:-//FundArt - ECPv5.12.2//NONSGML v1.0//EN
CALSCALE:GREGORIAN
METHOD:PUBLISH
X-WR-CALNAME:FundArt
X-ORIGINAL-URL:https://fundart.com.br
X-WR-CALDESC:Eventos para FundArt
BEGIN:VTIMEZONE
TZID:America/Sao_Paulo
BEGIN:STANDARD
TZOFFSETFROM:-0200
TZOFFSETTO:-0300
TZNAME:-03
DTSTART:20180218T020000
END:STANDARD
BEGIN:DAYLIGHT
TZOFFSETFROM:-0300
TZOFFSETTO:-0200
TZNAME:-02
DTSTART:20181104T030000
END:DAYLIGHT
END:VTIMEZONE
BEGIN:VEVENT
DTSTART;TZID=America/Sao_Paulo:20180510T180000
DTEND;TZID=America/Sao_Paulo:20180512T230000
DTSTAMP:20260424T183154
CREATED:20180503T202344Z
LAST-MODIFIED:20180503T202344Z
UID:24146-1525975200-1526166000@fundart.com.br
SUMMARY:Bazar de Dia das Mães: Grupo Setorial de Artesanato da FundArt
DESCRIPTION:Bazar de Dia das Mães: Grupo Setorial de Artesanato da FundArt\nEm homenagem ao dia das mães\, o Grupo Setorial de Artesanato da FundArt promove nos dias 4 e 5 de maio um bazar na Praça Anchieta\, Centro – em frente ao Sobradão do Porto. O bazar continua de 10 a 12 de maio\, no mesmo local\, sempre das 18h às 23h. \nPresenteie quem você ama com produtos artesanais!
URL:https://fundart.com.br/evento/bazar-de-dia-das-maes-grupo-setorial-de-artesanato-da-fundart/
LOCATION:Sobradão do Porto\, Praça Anchieta\, 38 - Centro\, Ubatuba
CATEGORIES:Grupo Setorial de Artesanato
ATTACH;FMTTYPE=image/jpeg:https://fundart.com.br/wp-content/uploads/2018/05/bazar-dia-das-maes.jpg
END:VEVENT
BEGIN:VEVENT
DTSTART;TZID=America/Sao_Paulo:20180512T080000
DTEND;TZID=America/Sao_Paulo:20180512T080000
DTSTAMP:20260424T183154
CREATED:20180403T140356Z
LAST-MODIFIED:20180403T140715Z
UID:23630-1526112000-1526112000@fundart.com.br
SUMMARY:Peregrinação da Folia do Divino no bairro do Rio Escuro
DESCRIPTION:O Grupo de Folia do Divino Espírito Santo de Ubatuba visita no dia 12 de maio (sábado)  . A peregrinação pelas casas do bairro tem início às 8h e segue durante todo o dia. \nTrazida pela Rainha Isabel de Portugal no séc. XVII\, a Festa do Divino Espírito Santo é uma das mais antigas manifestações religiosas do Brasil. Em Ubatuba\, essa manifestação ocorre de Norte a Sul há mais de dois séculos\, segundo antigos caiçaras. \nNo passado\, até a década de 50\, a Festa do Divino Espírito Santo era a mais respeitada e valorizada. As comunidades das praias e sertões se preparavam com antecedência para receber a Folia do Divino\, que com seus foliões\, visitava a casa dos devotos com suas violas\, rabecas e caixa seguindo a bandeira sagrada \nFilhos e netos de antigos foliões\, essas pessoas levam consigo a arte e a cultura de um povo que resiste a tantas mudanças\, a Cultura Caiçara.
URL:https://fundart.com.br/evento/peregrinacao-da-folia-do-divino-no-bairro-do-rio-escuro-2/
CATEGORIES:Folia do Divino Espírito Santo
ATTACH;FMTTYPE=image/jpeg:https://fundart.com.br/wp-content/uploads/2018/04/folia_do_divino.jpg
END:VEVENT
BEGIN:VEVENT
DTSTART;TZID=America/Sao_Paulo:20180512T090000
DTEND;TZID=America/Sao_Paulo:20180512T090000
DTSTAMP:20260424T183154
CREATED:20180509T144415Z
LAST-MODIFIED:20180509T144932Z
UID:24177-1526115600-1526115600@fundart.com.br
SUMMARY:Homenagem ao dia das mães com o grupo Free Som
DESCRIPTION:O grupo Free Som irá fazer uma apresentação especial em homenagem ao  dia das mães.\nLocal: E.M Manoel Inocêncio\, sertão do Ubatumirim\nHorário: 09:00hrs
URL:https://fundart.com.br/evento/grupo-free-som/
CATEGORIES:Banda Lira Padre Anchieta,Free Som
ATTACH;FMTTYPE=image/jpeg:https://fundart.com.br/wp-content/uploads/2017/10/Free-Som.jpg
END:VEVENT
BEGIN:VEVENT
DTSTART;TZID=America/Sao_Paulo:20180512T203000
DTEND;TZID=America/Sao_Paulo:20180512T203000
DTSTAMP:20260424T183154
CREATED:20180509T144637Z
LAST-MODIFIED:20180509T144637Z
UID:24179-1526157000-1526157000@fundart.com.br
SUMMARY:Música na Praça com o Grupo Free Som
DESCRIPTION:Local: Praça Exaltação da Santa Cruz\nHorário: 20:30hrs
URL:https://fundart.com.br/evento/musica-na-praca-com-o-grupo-free-som-10/
CATEGORIES:Banda Lira Padre Anchieta,Free Som,Música na Praça
ATTACH;FMTTYPE=image/jpeg:https://fundart.com.br/wp-content/uploads/2017/10/Free-Som.jpg
END:VEVENT
END:VCALENDAR