BEGIN:VCALENDAR
VERSION:2.0
PRODID:-//FundArt - ECPv5.12.2//NONSGML v1.0//EN
CALSCALE:GREGORIAN
METHOD:PUBLISH
X-WR-CALNAME:FundArt
X-ORIGINAL-URL:https://fundart.com.br
X-WR-CALDESC:Eventos para FundArt
BEGIN:VTIMEZONE
TZID:America/Sao_Paulo
BEGIN:STANDARD
TZOFFSETFROM:-0200
TZOFFSETTO:-0300
TZNAME:-03
DTSTART:20180218T020000
END:STANDARD
BEGIN:DAYLIGHT
TZOFFSETFROM:-0300
TZOFFSETTO:-0200
TZNAME:-02
DTSTART:20181104T030000
END:DAYLIGHT
END:VTIMEZONE
BEGIN:VEVENT
DTSTART;TZID=America/Sao_Paulo:20180323T090000
DTEND;TZID=America/Sao_Paulo:20180501T170000
DTSTAMP:20260424T210015
CREATED:20180309T173639Z
LAST-MODIFIED:20180502T120449Z
UID:23260-1521795600-1525194000@fundart.com.br
SUMMARY:Exposição "Aurorar"
DESCRIPTION:Em homenagem ao Dia Internacional da Mulher\, o Sistema Estadual de Museus (SISEM-SP)\, a Fundação de Arte e Cultura de Ubatuba (FundArt)\, ACAM Portinari\, e a empresa Desvela Empreendimentos Socioculturais\, trazem a Ubatuba nesse mês de março\, a exposição itinerante “Aurorar”. \nA mostra\, que conta com a curadoria de Higor Advenssude\, acontece de 23 de março a 4 de maio\, no Sobradão do Porto. Nela estarão expostas pinturas da artista plástica Nádia Starikoff\, que evocam figuras femininas em cenários que misturam sonho\, natureza e contemplação\, juntamente com textos da poetisa Carol Mondin\, que interpretam as imagens e ampliam o significado de cada uma delas. \nSERVIÇO\nExposição “Aurorar”\, de Nádia Starikoff e Carol Mondin\nOnde: Sobradão do Porto\nEndereço: Praça Anchieta\, 38\, Centro – Ubatuba/SP\nAbertura: 23 de março\, às 14h\nPeríodo: 23 de março a 04 de maio de 2018\nHorário: Segunda a sexta-feira das 9h às 12h e das 14h às 17h\nSábados\, domingos e feriados: das 14h às 22h\nInformações: (12) 3833-7000 / www.fundart.com.br\nEntrada gratuita
URL:https://fundart.com.br/evento/exposicao-aurorar/
LOCATION:Sobradão do Porto\, Praça Anchieta\, 38 - Centro\, Ubatuba
CATEGORIES:Exposiçåo
ORGANIZER;CN="FundArt":MAILTO:contato@fundart.com
END:VEVENT
BEGIN:VEVENT
DTSTART;VALUE=DATE:20180407
DTEND;VALUE=DATE:20180408
DTSTAMP:20260424T210015
CREATED:20180328T162550Z
LAST-MODIFIED:20180328T162550Z
UID:23489-1523059200-1523145599@fundart.com.br
SUMMARY:Peregrinação da Folia do Divino no bairro da Caçandoca
DESCRIPTION:O Grupo de Folia do Divino Espírito Santo de Ubatuba visita no dia 07 de abril (sábado)\, o bairro da Caçandoca\, na região sul de Ubatuba. A peregrinação pelas casas do bairro tem início às 8h e segue durante todo o dia. \nTrazida pela Rainha Isabel de Portugal no séc. XVII\, a Festa do Divino Espírito Santo é uma das mais antigas manifestações religiosas do Brasil. Em Ubatuba\, essa manifestação ocorre de Norte a Sul há mais de dois séculos\, segundo antigos caiçaras. \nNo passado\, até a década de 50\, a Festa do Divino Espírito Santo era a mais respeitada e valorizada. As comunidades das praias e sertões se preparavam com antecedência para receber a Folia do Divino\, que com seus foliões\, visitava a casa dos devotos com suas violas\, rabecas e caixa seguindo a bandeira sagrada \nAtualmente a Folia é composta por pessoas de várias extremidades do município\, como Almada\, Ubatumirim\, Promirim\, Praia Vermelha e Itaguá. Filhos e netos de antigos foliões\, essas pessoas levam consigo a arte e a cultura de um povo que resiste a tantas mudanças\, a Cultura Caiçara.
URL:https://fundart.com.br/evento/peregrinacao-da-folia-do-divino-no-bairro-da-cacandoca/
LOCATION:Caçandoca\, Ubatuba\, 11680-000
CATEGORIES:Folia do Divino Espírito Santo
ATTACH;FMTTYPE=image/jpeg:https://fundart.com.br/wp-content/uploads/2017/12/Folia-do-Divino-Foto-Antonia-Regina-Moura.jpg
END:VEVENT
BEGIN:VEVENT
DTSTART;TZID=America/Sao_Paulo:20180407T090000
DTEND;TZID=America/Sao_Paulo:20180409T170000
DTSTAMP:20260424T210015
CREATED:20180404T120354Z
LAST-MODIFIED:20180404T121651Z
UID:23670-1523091600-1523293200@fundart.com.br
SUMMARY:II Festival Cultural Guaraní na Aldeia Boa Vista
DESCRIPTION:Visando preservar as tradições e identidade dos indígenas\, a aldeia Boa Vista – Localizada no bairro do Promirim – promove nos dias 7\, 8 e 9 de abril\, das 9h às17h\, o II Festival Cultural Guaraní. \nReunindo diversas atividades e comidas típicas\, o festival promete oferecer aos visitantes a oportunidade de vivenciar a cultura indígena. \nAlex\, um dos organizadores do evento\, conta que o festival auxilia na fonte de renda da aldeia\, além de ser um caminho para divulgar seus costumes e tradições. \nOs ingressos serão vendidos por R$20\,00 na entrada do evento ou diretamente com os organizadores: 12)99702-5315 (Alex) ou (12) 99738- 6035 (Luiza). \n* As comidas típicas não estão inclusas no valor do ingresso.
URL:https://fundart.com.br/evento/ii-festival-cultural-guarani-na-aldeia-boa-vista/
LOCATION:Aldeia Boa Vista\, Prumirim\, Ubatuba\, São Paulo\, 11680-000
CATEGORIES:Dia do Índio
ATTACH;FMTTYPE=image/jpeg:https://fundart.com.br/wp-content/uploads/2018/04/II-FESTIVAL-CULTURAL-GUARANI.jpg
END:VEVENT
END:VCALENDAR