BEGIN:VCALENDAR
VERSION:2.0
PRODID:-//FundArt - ECPv5.12.2//NONSGML v1.0//EN
CALSCALE:GREGORIAN
METHOD:PUBLISH
X-WR-CALNAME:FundArt
X-ORIGINAL-URL:https://fundart.com.br
X-WR-CALDESC:Eventos para FundArt
BEGIN:VTIMEZONE
TZID:America/Sao_Paulo
BEGIN:STANDARD
TZOFFSETFROM:-0200
TZOFFSETTO:-0300
TZNAME:-03
DTSTART:20180218T020000
END:STANDARD
BEGIN:DAYLIGHT
TZOFFSETFROM:-0300
TZOFFSETTO:-0200
TZNAME:-02
DTSTART:20181104T030000
END:DAYLIGHT
END:VTIMEZONE
BEGIN:VEVENT
DTSTART;TZID=America/Sao_Paulo:20180322T200000
DTEND;TZID=America/Sao_Paulo:20180322T200000
DTSTAMP:20260425T082623
CREATED:20180309T174549Z
LAST-MODIFIED:20180309T174549Z
UID:23263-1521748800-1521748800@fundart.com.br
SUMMARY:Ubatuba em Portugal: Oficina de Dança FundArt
DESCRIPTION:
URL:https://fundart.com.br/evento/ubatuba-em-portugal-oficina-de-danca-fundart/
LOCATION:Teatro Municipal de Ubatuba\, Ubatuba
CATEGORIES:Ballet
ATTACH;FMTTYPE=image/jpeg:https://fundart.com.br/wp-content/uploads/2018/03/28795490_1704001766346681_8355362874364788736_n.jpg
ORGANIZER;CN="FundArt":MAILTO:contato@fundart.com
END:VEVENT
END:VCALENDAR