BEGIN:VCALENDAR
VERSION:2.0
PRODID:-//FundArt - ECPv5.12.2//NONSGML v1.0//EN
CALSCALE:GREGORIAN
METHOD:PUBLISH
X-WR-CALNAME:FundArt
X-ORIGINAL-URL:https://fundart.com.br
X-WR-CALDESC:Eventos para FundArt
BEGIN:VTIMEZONE
TZID:America/Sao_Paulo
BEGIN:STANDARD
TZOFFSETFROM:-0200
TZOFFSETTO:-0300
TZNAME:-03
DTSTART:20180218T020000
END:STANDARD
BEGIN:DAYLIGHT
TZOFFSETFROM:-0300
TZOFFSETTO:-0200
TZNAME:-02
DTSTART:20181104T030000
END:DAYLIGHT
END:VTIMEZONE
BEGIN:VEVENT
DTSTART;TZID=America/Sao_Paulo:20180102T170000
DTEND;TZID=America/Sao_Paulo:20180218T000000
DTSTAMP:20260424T235236
CREATED:20180104T162211Z
LAST-MODIFIED:20180207T131211Z
UID:22569-1514912400-1518912000@fundart.com.br
SUMMARY:Exposição do Grupo Setorial de Artes Plásticas e Visuais da FundArt
DESCRIPTION:Entre os dias  02 de janeiro e 18 de fevereiro\, de segunda a sexta das 17h às 23h e aos sábados e domingos das 18h à meia noite\, o Grupo Setorial de Artes Plásticas e Visuais realiza a Exposição Especial de Ano Novo no Sobradão do Porto. Cerca de 10 artistas apresentam diversas pinturas em tela\, desenhos e esculturas com valores para aquisição a partir de R$20\,00.
URL:https://fundart.com.br/evento/grupo-setorial-de-artes-plasticas-e-visuais/
LOCATION:Sobradão do Porto\, Praça Anchieta\, 38 
CATEGORIES:Artes Plásticas,Exposiçåo,Grupo Setorial de Artes Plásticas e Visuais
ATTACH;FMTTYPE=image/jpeg:https://fundart.com.br/wp-content/uploads/2015/07/feira-de-artes-2.jpg
END:VEVENT
BEGIN:VEVENT
DTSTART;TZID=America/Sao_Paulo:20180108T180000
DTEND;TZID=America/Sao_Paulo:20180208T180000
DTSTAMP:20260424T235236
CREATED:20180208T123311Z
LAST-MODIFIED:20180208T123311Z
UID:22968-1515434400-1518112800@fundart.com.br
SUMMARY:Reunião do Conselho Deliberativo
DESCRIPTION:1ª chamada: 18h \n2ª chamada:18h15
URL:https://fundart.com.br/evento/reuniao-do-conselho-deliberativo/
LOCATION:Sede Administrativa da FundArt\, Praça Nóbrega\, 54 - Centro\, Ubatuba\, 11680-000
ATTACH;FMTTYPE=image/jpeg:https://fundart.com.br/wp-content/uploads/2018/01/Conselho-deliberativo-2018-foto-zumbi.jpg
END:VEVENT
BEGIN:VEVENT
DTSTART;TZID=America/Sao_Paulo:20180118T190000
DTEND;TZID=America/Sao_Paulo:20180121T190000
DTSTAMP:20260424T235236
CREATED:20180104T162801Z
LAST-MODIFIED:20180118T132024Z
UID:22578-1516302000-1516561200@fundart.com.br
SUMMARY:Exposição do Grupo Setorial de Artesanato da FundArt
DESCRIPTION:O público que visitar a Praça Anchieta entre os dias 18 a 21\, das 19h à meia noite\,  também terá a oportunidade de conhecer peças exclusivas produzidas pelos artesãos do Grupo Setorial de Artesanato da FundArt. O grupo que tem marcado presença nos feriados prolongados estende a permanência da feria de artesanato até o carnaval com opções em objetos de decoração\, acessórios\, bolsas\, estamparias e cerâmica a partir de R$ 5\,00.
URL:https://fundart.com.br/evento/grupo-setorial-de-artesanato-2/
LOCATION:Sobradão do Porto\, Praça Anchieta\, 38 
CATEGORIES:Artesanato,Exposiçåo,Grupo Setorial de Artesanato
ATTACH;FMTTYPE=image/jpeg:https://fundart.com.br/wp-content/uploads/2018/01/ceramica-artesanato.jpg
END:VEVENT
BEGIN:VEVENT
DTSTART;TZID=America/Sao_Paulo:20180120T200000
DTEND;TZID=America/Sao_Paulo:20180120T220000
DTSTAMP:20260424T235236
CREATED:20180108T133702Z
LAST-MODIFIED:20180108T134015Z
UID:22598-1516478400-1516485600@fundart.com.br
SUMMARY:Nosso Som - Mostra de Música Autoral na Praça
DESCRIPTION:No sábado\, dia 20\, é a vez de Gus Marques subir ao palco da mostra às 20h para interpretar suas canções. Logo após\, às 21h\, a Banda Hat interpretará seu repertório para o público. Lembrando que todas as apresentações são gratuitas. \nVenham todos prestigiar o talento dos nossos artistas locais!
URL:https://fundart.com.br/evento/nosso-som-mostra-de-musica-autoral-na-praca/
LOCATION:Sobradão do Porto\, Praça Anchieta\, 38 - Centro\, Ubatuba
CATEGORIES:Grupo Setorial de Música,Música na Praça,Nosso Som - Mostra de Música Autoral na Praça
ATTACH;FMTTYPE=image/jpeg:https://fundart.com.br/wp-content/uploads/2018/01/teaser-gus-marques-e-hat-20jan.jpg
ORGANIZER;CN="Grupo%20Setorial%20de%20M%C3%BAsica%20da%20FundArt":MAILTO:contato@fundart.com.br
END:VEVENT
END:VCALENDAR