BEGIN:VCALENDAR
VERSION:2.0
PRODID:-//FundArt - ECPv5.12.2//NONSGML v1.0//EN
CALSCALE:GREGORIAN
METHOD:PUBLISH
X-WR-CALNAME:FundArt
X-ORIGINAL-URL:https://fundart.com.br
X-WR-CALDESC:Eventos para FundArt
BEGIN:VTIMEZONE
TZID:America/Sao_Paulo
BEGIN:STANDARD
TZOFFSETFROM:-0200
TZOFFSETTO:-0300
TZNAME:-03
DTSTART:20180218T020000
END:STANDARD
BEGIN:DAYLIGHT
TZOFFSETFROM:-0300
TZOFFSETTO:-0200
TZNAME:-02
DTSTART:20181104T030000
END:DAYLIGHT
END:VTIMEZONE
BEGIN:VEVENT
DTSTART;TZID=America/Sao_Paulo:20180102T170000
DTEND;TZID=America/Sao_Paulo:20180218T000000
DTSTAMP:20260425T080348
CREATED:20180104T162211Z
LAST-MODIFIED:20180207T131211Z
UID:22569-1514912400-1518912000@fundart.com.br
SUMMARY:Exposição do Grupo Setorial de Artes Plásticas e Visuais da FundArt
DESCRIPTION:Entre os dias  02 de janeiro e 18 de fevereiro\, de segunda a sexta das 17h às 23h e aos sábados e domingos das 18h à meia noite\, o Grupo Setorial de Artes Plásticas e Visuais realiza a Exposição Especial de Ano Novo no Sobradão do Porto. Cerca de 10 artistas apresentam diversas pinturas em tela\, desenhos e esculturas com valores para aquisição a partir de R$20\,00.
URL:https://fundart.com.br/evento/grupo-setorial-de-artes-plasticas-e-visuais/
LOCATION:Sobradão do Porto\, Praça Anchieta\, 38 
CATEGORIES:Artes Plásticas,Exposiçåo,Grupo Setorial de Artes Plásticas e Visuais
ATTACH;FMTTYPE=image/jpeg:https://fundart.com.br/wp-content/uploads/2015/07/feira-de-artes-2.jpg
END:VEVENT
BEGIN:VEVENT
DTSTART;TZID=America/Sao_Paulo:20180103T190000
DTEND;TZID=America/Sao_Paulo:20180107T000000
DTSTAMP:20260425T080348
CREATED:20180104T162523Z
LAST-MODIFIED:20180109T194106Z
UID:22572-1515006000-1515283200@fundart.com.br
SUMMARY:Exposição do Grupo Setorial de Artesanato da FundArt
DESCRIPTION:O público que visitar a Praça Anchieta entre os dias 3 a 7 \, das 19h à meia noite\,  também terá a oportunidade de conhecer peças exclusivas produzidas pelos artesãos do Grupo Setorial de Artesanato da FundArt. O grupo que tem marcado presença nos feriados prolongados estende a permanência da feria de artesanato até o carnaval com opções em objetos de decoração\, acessórios\, bolsas\, estamparias e cerâmica a partir de R$ 5\,00.
URL:https://fundart.com.br/evento/grupo-setorial-de-artesanato/
LOCATION:Sobradão do Porto\, Praça Anchieta\, 38 
CATEGORIES:Artesanato,Exposiçåo,Grupo Setorial de Artesanato
ATTACH;FMTTYPE=image/jpeg:https://fundart.com.br/wp-content/uploads/2018/01/ceramica-artesanato.jpg
END:VEVENT
BEGIN:VEVENT
DTSTART;TZID=America/Sao_Paulo:20180106T193000
DTEND;TZID=America/Sao_Paulo:20180106T193000
DTSTAMP:20260425T080348
CREATED:20180104T161953Z
LAST-MODIFIED:20180104T161953Z
UID:22565-1515267000-1515267000@fundart.com.br
SUMMARY:Encontro de Folias de Santos Reis
DESCRIPTION:A origem da folia de reis está associada a uma tradição cristã portuguesa e espanhola que foi trazida para o Brasil\, provavelmente no século XIX. \nA Folia de Reis é celebrada na religião católica com o intuito de celebrar a visita dos três  (Gaspar\, Melchior – ou Belchior- e Baltazar) ao menino Jesus. \nEla é celebrada durante 12 dias desde 24 de dezembro (véspera do nascimento de Jesus) até o dia 06 de janeiro\, quando os reis magos chegam a Belém. \nNo momento que os reis magos avistaram no céu a Estrela de Belém\, foram ao encontro de Jesus e levaram incenso\, ouro e mirra. \n 
URL:https://fundart.com.br/evento/encontro-de-folias-de-santos-reis/
LOCATION:Igreja matriz\, Praça exaltação da Santa Cruz\, Ubatuba
ATTACH;FMTTYPE=image/jpeg:https://fundart.com.br/wp-content/uploads/2017/12/folia-de-reis.jpg
END:VEVENT
END:VCALENDAR