BEGIN:VCALENDAR
VERSION:2.0
PRODID:-//FundArt - ECPv5.12.2//NONSGML v1.0//EN
CALSCALE:GREGORIAN
METHOD:PUBLISH
X-WR-CALNAME:FundArt
X-ORIGINAL-URL:https://fundart.com.br
X-WR-CALDESC:Eventos para FundArt
BEGIN:VTIMEZONE
TZID:America/Sao_Paulo
BEGIN:STANDARD
TZOFFSETFROM:-0200
TZOFFSETTO:-0300
TZNAME:-03
DTSTART:20170219T020000
END:STANDARD
BEGIN:DAYLIGHT
TZOFFSETFROM:-0300
TZOFFSETTO:-0200
TZNAME:-02
DTSTART:20171015T030000
END:DAYLIGHT
END:VTIMEZONE
BEGIN:VEVENT
DTSTART;VALUE=DATE:20171116
DTEND;VALUE=DATE:20171121
DTSTAMP:20260425T094801
CREATED:20171109T165834Z
LAST-MODIFIED:20171109T165834Z
UID:21849-1510790400-1511222399@fundart.com.br
SUMMARY:Consciência Negra 2017 – Negro de Todas as Cores
DESCRIPTION:Todos os anos em homenagem ao dia nacional da Consciência Negra\, a FundArt realiza o evento “Negro de Todas as Cores”. \nAs atividades ocorrem do dia 16 a 20/11 no Sobradão do Porto e são voltadas ao fortalecimento da cultura afro e a sua importância como elemento fundamental na formação do povo brasileiro. \nDurante a semana comemorativa\, o público terá acesso a apresentações musicais\, rodas de conversa\, oficinas\, além do tradicional desfile “A Mais Bela Negra”. \nConfira a programação completa: \n16 de novembro (quinta-feira)\n19h – Roda de conversa com o Conselho Municipal das Comunidade Quilombolas \n17 de novembro (sexta-feira)\n19h Cine Debate: “Um Vento Sagrado”\nO longa-metragem documental retrata a vida e obra de Agenor Miranda Rocha. Mediador Jorge Basso. \n18 de novembro (sábado)\n10h – Café com prosa: Encontro com figuras representativas da cultura negra de Ubatuba\n12h – Feijoada com Chorinho – Participação especial do grupo Quinteto Galvanizado\n15h às 17h – “batucAjunta” – Vivência de roda de samba entre mulheres com Sheila Sanches\n16h às 18h – Batuque na praça/Cultura na Kombi com Flavio Itajubá\n20h – Roda de Samba do “Tio Gula”\n21h – Desfile “A Mais Bela Negra”\n22h – DTPK Crew \n19 de novembro (domingo)\n17h – 2° Sanatório Literal – SLAM para Consciência\n19h – Alunos da oficina de Maracatu da Fundação Cultural “Benedicto Siqueira e Silva” (Paraibuna-SP)\n20h – Maracatu Baque do Vale (Taubaté-SP)\n21h – Resistência du Gueto (Baixada Santista)\n22h – Motiva Fé \n20 de novembro (segunda-feira)\n15h – Encontro de Capoeira\n17h – Leitura Dramática/Conto\, crônicas e poesia. “De Lima Barreto e G.O.G.” por Rodrigo Caldeira e Venicio Toledo\n18h – Coro da Lira\n19h – Banda Lira Padre Anchieta
URL:https://fundart.com.br/evento/consciencia-negra-2017-negro-de-todas-cores/
LOCATION:Sobradão do Porto\, Praça Anchieta\, 38 - Centro\, Ubatuba\, 11680-000
CATEGORIES:Consciência Negra
ATTACH;FMTTYPE=image/jpeg:https://fundart.com.br/wp-content/uploads/2017/11/23416276_1154680581332523_974788592_n.jpg
ORGANIZER;CN="FundArt":MAILTO:contato@fundart.com.br
END:VEVENT
BEGIN:VEVENT
DTSTART;TZID=America/Sao_Paulo:20171116T180000
DTEND;TZID=America/Sao_Paulo:20171116T180000
DTSTAMP:20260425T094801
CREATED:20171106T125958Z
LAST-MODIFIED:20171106T125958Z
UID:21709-1510855200-1510855200@fundart.com.br
SUMMARY:Reunião do grupo setorial de História e Geografia
DESCRIPTION:Data: 16 de novembro – Quinta-feira às 18h\nLocal: Sede Administrativa da FundArt – Praça Nóbrega\, 54 – Centro \nO Grupo Setorial de História e Geografia tem como função pesquisar a formação histórica e geográfica do município através de fotos\, livros\, mapas\, legislação\, vídeos\, publicações\, entre outros. Esta documentação é reunida em arquivos na FundArt e na Biblioteca Municipal\, ficando disponível para consulta pública. \nEstão incluídas nas atividades do grupo a promoção de cursos\, palestras\, seminários e exposições\, além do trabalho junto ao Museu Histórico de Ubatuba – Museu “Washington de Oliveira” (Cadeia Velha). \nHistória e Geografia\nCoordenador: Flávio Menezes de Souza Pereira
URL:https://fundart.com.br/evento/reuniao-grupo-setorial-de-historia-e-geografia/
LOCATION:Sede Administrativa da FundArt\, Praça Nóbrega\, 54 - Centro\, Ubatuba\, 11680-000
CATEGORIES:Grupo Setorial de História e Geografia
ATTACH;FMTTYPE=image/jpeg:https://fundart.com.br/wp-content/uploads/2013/05/Historia-2.jpg
END:VEVENT
END:VCALENDAR