BEGIN:VCALENDAR
VERSION:2.0
PRODID:-//FundArt - ECPv5.12.2//NONSGML v1.0//EN
CALSCALE:GREGORIAN
METHOD:PUBLISH
X-WR-CALNAME:FundArt
X-ORIGINAL-URL:https://fundart.com.br
X-WR-CALDESC:Eventos para FundArt
BEGIN:VTIMEZONE
TZID:America/Sao_Paulo
BEGIN:STANDARD
TZOFFSETFROM:-0200
TZOFFSETTO:-0300
TZNAME:-03
DTSTART:20160221T020000
END:STANDARD
BEGIN:DAYLIGHT
TZOFFSETFROM:-0300
TZOFFSETTO:-0200
TZNAME:-02
DTSTART:20161016T030000
END:DAYLIGHT
END:VTIMEZONE
BEGIN:VEVENT
DTSTART;TZID=America/Sao_Paulo:20160909T190000
DTEND;TZID=America/Sao_Paulo:20160911T190000
DTSTAMP:20260426T011006
CREATED:20160831T140544Z
LAST-MODIFIED:20160902T181141Z
UID:15303-1473447600-1473620400@fundart.com.br
SUMMARY:2º Festival Guarani Cultural
DESCRIPTION:
URL:https://fundart.com.br/evento/guarani-cultural/
LOCATION:Praça da Baleia\, Itaguá\, Ubatuba\, 11680000\, Brasil
CATEGORIES:Cultura
ATTACH;FMTTYPE=image/jpeg:https://fundart.com.br/wp-content/uploads/2016/09/banner_eletronico.jpg
END:VEVENT
BEGIN:VEVENT
DTSTART;TZID=America/Sao_Paulo:20160909T190000
DTEND;TZID=America/Sao_Paulo:20160911T190000
DTSTAMP:20260426T011006
CREATED:20160831T144718Z
LAST-MODIFIED:20160905T122625Z
UID:15306-1473447600-1473620400@fundart.com.br
SUMMARY:2º Festejo do Quilombo da Fazenda
DESCRIPTION:De 9 a 11 de setembro \nDanças\, música e comidas típicas. \nLocal: Casa da Farinha – Quilombo da Fazenda \nRodovia Rio-Santos – Km 12 \n  \n 
URL:https://fundart.com.br/evento/2o-festejo-quilombo-da-fazenda/
LOCATION:Casa da Farinha\, Quilombo da Fazenda\, Ubatuba
CATEGORIES:Culinária,Cultura,Dança,Música
ATTACH;FMTTYPE=image/jpeg:https://fundart.com.br/wp-content/uploads/2016/08/14159139_878919248908659_1611206895_n.jpg
END:VEVENT
END:VCALENDAR